Package: ggsc Version: 1.9.0 Command: /Library/Frameworks/R.framework/Resources/bin/R CMD build --keep-empty-dirs --no-resave-data ggsc StartedAt: 2025-11-20 17:10:46 -0500 (Thu, 20 Nov 2025) EndedAt: 2025-11-20 17:11:45 -0500 (Thu, 20 Nov 2025) EllapsedTime: 58.3 seconds RetCode: 0 Status: OK PackageFile: ggsc_1.9.0.tar.gz PackageFileSize: 81.53 KiB