Package: ggsc Version: 1.9.0 Command: rm -rf ggsc.buildbin-libdir && mkdir ggsc.buildbin-libdir && /Users/biocbuild/BBS/utils/build-universal.sh ggsc_1.9.0.tar.gz /Library/Frameworks/R.framework/Resources/bin/R ggsc.buildbin-libdir StartedAt: 2025-11-21 01:36:06 -0500 (Fri, 21 Nov 2025) EndedAt: 2025-11-21 01:37:27 -0500 (Fri, 21 Nov 2025) EllapsedTime: 81.0 seconds RetCode: 0 Status: OK PackageFile: ggsc_1.9.0.tgz PackageFileSize: 364.6 KiB