Package: ggsc Version: 1.7.1 Command: /Library/Frameworks/R.framework/Resources/bin/R CMD INSTALL ggsc StartedAt: 2025-10-08 15:16:10 -0400 (Wed, 08 Oct 2025) EndedAt: 2025-10-08 15:16:30 -0400 (Wed, 08 Oct 2025) EllapsedTime: 19.8 seconds RetCode: 0 Status: OK