Package: ggsc Version: 1.7.1 Command: /Library/Frameworks/R.framework/Resources/bin/R CMD build --keep-empty-dirs --no-resave-data ggsc StartedAt: 2025-10-08 16:38:51 -0400 (Wed, 08 Oct 2025) EndedAt: 2025-10-08 16:39:13 -0400 (Wed, 08 Oct 2025) EllapsedTime: 21.2 seconds RetCode: 0 Status: OK PackageFile: ggsc_1.7.1.tar.gz PackageFileSize: 81.5 KiB