Package: ggsc Version: 1.7.1 Command: rm -rf ggsc.buildbin-libdir && mkdir ggsc.buildbin-libdir && /Users/biocbuild/BBS/utils/build-universal.sh ggsc_1.7.1.tar.gz /Library/Frameworks/R.framework/Resources/bin/R ggsc.buildbin-libdir StartedAt: 2025-10-08 22:49:28 -0400 (Wed, 08 Oct 2025) EndedAt: 2025-10-08 22:49:50 -0400 (Wed, 08 Oct 2025) EllapsedTime: 21.5 seconds RetCode: 0 Status: OK PackageFile: ggsc_1.7.1.tgz PackageFileSize: 356.2 KiB