Package: ggmsa Version: 1.17.0 Command: /home/biocbuild/bbs-3.23-bioc/R/bin/R CMD INSTALL ggmsa StartedAt: 2025-11-20 15:36:45 -0500 (Thu, 20 Nov 2025) EndedAt: 2025-11-20 15:37:01 -0500 (Thu, 20 Nov 2025) EllapsedTime: 15.5 seconds RetCode: 0 Status: OK