Package: ggmsa Version: 1.15.1 Command: /Library/Frameworks/R.framework/Resources/bin/R CMD INSTALL ggmsa StartedAt: 2025-10-23 15:32:40 -0400 (Thu, 23 Oct 2025) EndedAt: 2025-10-23 15:33:03 -0400 (Thu, 23 Oct 2025) EllapsedTime: 23.2 seconds RetCode: 0 Status: OK