Package: ggmsa Version: 1.15.1 Command: /Library/Frameworks/R.framework/Resources/bin/R CMD build --keep-empty-dirs --no-resave-data ggmsa StartedAt: 2025-10-22 17:07:51 -0400 (Wed, 22 Oct 2025) EndedAt: 2025-10-22 17:08:26 -0400 (Wed, 22 Oct 2025) EllapsedTime: 34.2 seconds RetCode: 0 Status: OK PackageFile: ggmsa_1.15.1.tar.gz PackageFileSize: 3.271 MiB