Package: ggmsa Version: 1.15.1 Command: rm -rf ggmsa.buildbin-libdir && mkdir ggmsa.buildbin-libdir && /Users/biocbuild/BBS/utils/build-universal.sh ggmsa_1.15.1.tar.gz /Library/Frameworks/R.framework/Resources/bin/R ggmsa.buildbin-libdir StartedAt: 2025-10-23 01:35:13 -0400 (Thu, 23 Oct 2025) EndedAt: 2025-10-23 01:35:40 -0400 (Thu, 23 Oct 2025) EllapsedTime: 26.7 seconds RetCode: 0 Status: OK PackageFile: ggmsa_1.15.1.tgz PackageFileSize: 2.371 MiB