Package: ggmsa Version: 1.15.1 Command: /Library/Frameworks/R.framework/Resources/bin/R CMD INSTALL ggmsa StartedAt: 2025-09-30 15:10:30 -0400 (Tue, 30 Sep 2025) EndedAt: 2025-09-30 15:10:37 -0400 (Tue, 30 Sep 2025) EllapsedTime: 6.4 seconds RetCode: 0 Status: OK