Package: ggmsa Version: 1.15.1 Command: /Library/Frameworks/R.framework/Resources/bin/R CMD build --keep-empty-dirs --no-resave-data ggmsa StartedAt: 2025-09-30 16:32:38 -0400 (Tue, 30 Sep 2025) EndedAt: 2025-09-30 16:32:51 -0400 (Tue, 30 Sep 2025) EllapsedTime: 13.1 seconds RetCode: 0 Status: OK PackageFile: ggmsa_1.15.1.tar.gz PackageFileSize: 3.271 MiB