Package: ggmsa Version: 1.15.1 Command: rm -rf ggmsa.buildbin-libdir && mkdir ggmsa.buildbin-libdir && /Users/biocbuild/BBS/utils/build-universal.sh ggmsa_1.15.1.tar.gz /Library/Frameworks/R.framework/Resources/bin/R ggmsa.buildbin-libdir StartedAt: 2025-09-30 22:41:40 -0400 (Tue, 30 Sep 2025) EndedAt: 2025-09-30 22:41:47 -0400 (Tue, 30 Sep 2025) EllapsedTime: 7.1 seconds RetCode: 0 Status: OK PackageFile: ggmsa_1.15.1.tgz PackageFileSize: 2.374 MiB