Package: ggmanh Version: 1.15.0 Command: /home/biocbuild/bbs-3.23-bioc/R/bin/R CMD INSTALL ggmanh StartedAt: 2025-11-21 15:33:26 -0500 (Fri, 21 Nov 2025) EndedAt: 2025-11-21 15:33:31 -0500 (Fri, 21 Nov 2025) EllapsedTime: 5.0 seconds RetCode: 0 Status: OK