Package: ggmanh Version: 1.15.0 Command: /home/biocbuild/bbs-3.23-bioc/R/bin/R CMD build --keep-empty-dirs --no-resave-data ggmanh StartedAt: 2025-11-21 17:49:43 -0500 (Fri, 21 Nov 2025) EndedAt: 2025-11-21 17:50:34 -0500 (Fri, 21 Nov 2025) EllapsedTime: 51.1 seconds RetCode: 0 Status: OK PackageFile: ggmanh_1.15.0.tar.gz PackageFileSize: 4.236 MiB