Package: ggmanh Version: 1.15.0 Command: /Library/Frameworks/R.framework/Resources/bin/R CMD build --keep-empty-dirs --no-resave-data ggmanh StartedAt: 2025-11-20 17:10:28 -0500 (Thu, 20 Nov 2025) EndedAt: 2025-11-20 17:11:25 -0500 (Thu, 20 Nov 2025) EllapsedTime: 57.1 seconds RetCode: 0 Status: OK PackageFile: ggmanh_1.15.0.tar.gz PackageFileSize: 4.419 MiB