Package: ggmanh Version: 1.13.0 Command: /Library/Frameworks/R.framework/Resources/bin/R CMD INSTALL ggmanh StartedAt: 2025-10-28 15:18:09 -0400 (Tue, 28 Oct 2025) EndedAt: 2025-10-28 15:18:11 -0400 (Tue, 28 Oct 2025) EllapsedTime: 2.4 seconds RetCode: 0 Status: OK