Package: ggkegg Version: 1.9.0 Command: rm -rf ggkegg.buildbin-libdir && mkdir ggkegg.buildbin-libdir && /Users/biocbuild/BBS/utils/build-universal.sh ggkegg_1.9.0.tar.gz /Library/Frameworks/R.framework/Resources/bin/R ggkegg.buildbin-libdir StartedAt: 2025-11-21 23:34:21 -0500 (Fri, 21 Nov 2025) EndedAt: 2025-11-21 23:34:28 -0500 (Fri, 21 Nov 2025) EllapsedTime: 7.2 seconds RetCode: 0 Status: OK PackageFile: ggkegg_1.9.0.tgz PackageFileSize: 3.843 MiB