Package: ggbio Version: 1.59.0 Command: /home/biocbuild/bbs-3.23-bioc/R/bin/R CMD INSTALL ggbio StartedAt: 2025-11-05 15:52:24 -0500 (Wed, 05 Nov 2025) EndedAt: 2025-11-05 15:53:21 -0500 (Wed, 05 Nov 2025) EllapsedTime: 57.1 seconds RetCode: 0 Status: OK