Package: ggbio Version: 1.59.0 Command: /home/biocbuild/bbs-3.23-bioc/R/bin/R CMD build --keep-empty-dirs --no-resave-data ggbio StartedAt: 2025-11-04 17:45:33 -0500 (Tue, 04 Nov 2025) EndedAt: 2025-11-04 17:51:40 -0500 (Tue, 04 Nov 2025) EllapsedTime: 367.3 seconds RetCode: 0 Status: OK PackageFile: ggbio_1.59.0.tar.gz PackageFileSize: 3.332 MiB