Package: ggbio Version: 1.57.1 Command: /Library/Frameworks/R.framework/Resources/bin/R CMD INSTALL ggbio StartedAt: 2025-10-13 15:41:59 -0400 (Mon, 13 Oct 2025) EndedAt: 2025-10-13 15:43:20 -0400 (Mon, 13 Oct 2025) EllapsedTime: 80.9 seconds RetCode: 0 Status: OK