Package: ggbio Version: 1.57.1 Command: /Library/Frameworks/R.framework/Resources/bin/R CMD build --keep-empty-dirs --no-resave-data ggbio StartedAt: 2025-10-13 17:22:06 -0400 (Mon, 13 Oct 2025) EndedAt: 2025-10-13 17:30:36 -0400 (Mon, 13 Oct 2025) EllapsedTime: 509.4 seconds RetCode: 0 Status: OK PackageFile: ggbio_1.57.1.tar.gz PackageFileSize: 3.332 MiB