Package: ggbio Version: 1.57.1 Command: rm -rf ggbio.buildbin-libdir && mkdir ggbio.buildbin-libdir && /Users/biocbuild/BBS/utils/build-universal.sh ggbio_1.57.1.tar.gz /Library/Frameworks/R.framework/Resources/bin/R ggbio.buildbin-libdir StartedAt: 2025-10-14 02:46:30 -0400 (Tue, 14 Oct 2025) EndedAt: 2025-10-14 02:47:55 -0400 (Tue, 14 Oct 2025) EllapsedTime: 84.5 seconds RetCode: 0 Status: OK PackageFile: ggbio_1.57.1.tgz PackageFileSize: 3.516 MiB