Package: ggbio Version: 1.57.1 Maintainer: Michael Lawrence MaintainerEmail: lawremi at gmail.com git_url: https://git.bioconductor.org/packages/ggbio git_branch: devel git_last_commit: 245af34 git_last_commit_date: 2025-09-30 06:27:31 -0400 (Tue, 30 Sep 2025)