Package: gg4way Version: 1.9.0 Command: /home/biocbuild/bbs-3.23-bioc/R/bin/R CMD INSTALL gg4way StartedAt: 2025-11-20 15:22:34 -0500 (Thu, 20 Nov 2025) EndedAt: 2025-11-20 15:23:01 -0500 (Thu, 20 Nov 2025) EllapsedTime: 26.4 seconds RetCode: 0 Status: OK