Package: gg4way Version: 1.9.0 Command: /home/biocbuild/bbs-3.23-bioc/R/bin/R CMD build --keep-empty-dirs --no-resave-data gg4way StartedAt: 2025-11-20 17:49:54 -0500 (Thu, 20 Nov 2025) EndedAt: 2025-11-20 17:51:16 -0500 (Thu, 20 Nov 2025) EllapsedTime: 82.1 seconds RetCode: 0 Status: OK PackageFile: gg4way_1.9.0.tar.gz PackageFileSize: 2.922 MiB