Package: gg4way Version: 1.9.0 Command: /Library/Frameworks/R.framework/Resources/bin/R CMD INSTALL gg4way StartedAt: 2025-11-21 15:28:54 -0500 (Fri, 21 Nov 2025) EndedAt: 2025-11-21 15:29:31 -0500 (Fri, 21 Nov 2025) EllapsedTime: 37.3 seconds RetCode: 0 Status: OK