Package: gg4way Version: 1.9.0 Command: /Library/Frameworks/R.framework/Resources/bin/R CMD build --keep-empty-dirs --no-resave-data gg4way StartedAt: 2025-11-20 17:10:02 -0500 (Thu, 20 Nov 2025) EndedAt: 2025-11-20 17:11:29 -0500 (Thu, 20 Nov 2025) EllapsedTime: 86.8 seconds RetCode: 0 Status: OK PackageFile: gg4way_1.9.0.tar.gz PackageFileSize: 2.973 MiB