Package: gg4way Version: 1.7.1 Command: /Library/Frameworks/R.framework/Resources/bin/R CMD INSTALL gg4way StartedAt: 2025-10-23 15:14:39 -0400 (Thu, 23 Oct 2025) EndedAt: 2025-10-23 15:14:50 -0400 (Thu, 23 Oct 2025) EllapsedTime: 10.4 seconds RetCode: 0 Status: OK