Package: gg4way Version: 1.7.1 Command: /Library/Frameworks/R.framework/Resources/bin/R CMD build --keep-empty-dirs --no-resave-data gg4way StartedAt: 2025-10-23 16:33:42 -0400 (Thu, 23 Oct 2025) EndedAt: 2025-10-23 16:34:14 -0400 (Thu, 23 Oct 2025) EllapsedTime: 31.3 seconds RetCode: 0 Status: OK PackageFile: gg4way_1.7.1.tar.gz PackageFileSize: 2.989 MiB