Package: geyser Version: 1.3.0 Command: /home/biocbuild/bbs-3.23-bioc/R/bin/R CMD INSTALL geyser StartedAt: 2025-11-20 15:17:14 -0500 (Thu, 20 Nov 2025) EndedAt: 2025-11-20 15:17:40 -0500 (Thu, 20 Nov 2025) EllapsedTime: 25.7 seconds RetCode: 0 Status: OK