Package: geyser Version: 1.3.0 Command: /home/biocbuild/bbs-3.23-bioc/R/bin/R CMD build --keep-empty-dirs --no-resave-data geyser StartedAt: 2025-11-20 17:49:51 -0500 (Thu, 20 Nov 2025) EndedAt: 2025-11-20 17:50:31 -0500 (Thu, 20 Nov 2025) EllapsedTime: 40.0 seconds RetCode: 0 Status: OK PackageFile: geyser_1.3.0.tar.gz PackageFileSize: 2.279 MiB