Package: geyser Version: 1.2.0 Command: /Library/Frameworks/R.framework/Resources/bin/R CMD INSTALL geyser StartedAt: 2025-10-29 22:03:24 -0400 (Wed, 29 Oct 2025) EndedAt: 2025-10-29 22:03:59 -0400 (Wed, 29 Oct 2025) EllapsedTime: 35.1 seconds RetCode: 0 Status: OK