Package: geyser Version: 1.1.0 Command: /Library/Frameworks/R.framework/Resources/bin/R CMD INSTALL geyser StartedAt: 2025-10-12 15:11:23 -0400 (Sun, 12 Oct 2025) EndedAt: 2025-10-12 15:11:34 -0400 (Sun, 12 Oct 2025) EllapsedTime: 10.9 seconds RetCode: 0 Status: OK