Package: geyser Version: 1.1.0 Command: /Library/Frameworks/R.framework/Resources/bin/R CMD build --keep-empty-dirs --no-resave-data geyser StartedAt: 2025-10-12 16:29:35 -0400 (Sun, 12 Oct 2025) EndedAt: 2025-10-12 16:29:52 -0400 (Sun, 12 Oct 2025) EllapsedTime: 16.1 seconds RetCode: 0 Status: OK PackageFile: geyser_1.1.0.tar.gz PackageFileSize: 2.279 MiB