Package: geva Version: 1.19.0 Command: /home/biocbuild/bbs-3.23-bioc/R/bin/R CMD build --keep-empty-dirs --no-resave-data geva StartedAt: 2025-11-21 17:48:31 -0500 (Fri, 21 Nov 2025) EndedAt: 2025-11-21 17:50:15 -0500 (Fri, 21 Nov 2025) EllapsedTime: 104.1 seconds RetCode: 0 Status: OK PackageFile: geva_1.19.0.tar.gz PackageFileSize: 2.318 MiB