Package: geva Version: 1.19.0 Command: /Library/Frameworks/R.framework/Resources/bin/R CMD INSTALL geva StartedAt: 2025-11-21 15:13:56 -0500 (Fri, 21 Nov 2025) EndedAt: 2025-11-21 15:14:41 -0500 (Fri, 21 Nov 2025) EllapsedTime: 45.7 seconds RetCode: 0 Status: OK