Package: geva Version: 1.19.0 Command: /Library/Frameworks/R.framework/Resources/bin/R CMD build --keep-empty-dirs --no-resave-data geva StartedAt: 2025-11-21 17:09:08 -0500 (Fri, 21 Nov 2025) EndedAt: 2025-11-21 17:11:06 -0500 (Fri, 21 Nov 2025) EllapsedTime: 117.7 seconds RetCode: 0 Status: OK PackageFile: geva_1.19.0.tar.gz PackageFileSize: 2.215 MiB