Package: getDEE2 Version: 1.19.3 Command: /home/biocbuild/R/R/bin/R CMD INSTALL getDEE2 StartedAt: 2025-10-02 20:38:59 -0000 (Thu, 02 Oct 2025) EndedAt: 2025-10-02 20:39:25 -0000 (Thu, 02 Oct 2025) EllapsedTime: 26.2 seconds RetCode: 0 Status: OK