Package: getDEE2 Version: 1.19.3 Command: /home/biocbuild/R/R/bin/R CMD build --keep-empty-dirs --no-resave-data getDEE2 StartedAt: 2025-10-03 00:14:12 -0000 (Fri, 03 Oct 2025) EndedAt: 2025-10-03 00:24:40 -0000 (Fri, 03 Oct 2025) EllapsedTime: 628.2 seconds RetCode: 0 Status: OK PackageFile: getDEE2_1.19.3.tar.gz PackageFileSize: 24.44 KiB