############################################################################## ############################################################################## ### ### Running command: ### ### chmod a+r getDEE2 -R && F:\biocbuild\bbs-3.22-bioc\R\bin\R.exe CMD build --keep-empty-dirs --no-resave-data getDEE2 ### ############################################################################## ############################################################################## * checking for file 'getDEE2/DESCRIPTION' ... OK * preparing 'getDEE2': * checking DESCRIPTION meta-information ... OK * installing the package to build vignettes * creating vignettes ... OK Warning in person1(given = given[[i]], family = family[[i]], middle = middle[[i]], : It is recommended to use 'given' instead of 'middle'. Warning in person1(given = given[[i]], family = family[[i]], middle = middle[[i]], : It is recommended to use 'given' instead of 'middle'. * checking for LF line-endings in source and make files and shell scripts * checking for empty or unneeded directories * building 'getDEE2_1.19.3.tar.gz'