Package: getDEE2 Version: 1.21.0 Command: /home/biocbuild/bbs-3.23-bioc/R/bin/R CMD check --install=check:getDEE2.install-out.txt --library=/home/biocbuild/bbs-3.23-bioc/R/site-library --timings getDEE2_1.21.0.tar.gz StartedAt: 2025-11-21 00:00:57 -0500 (Fri, 21 Nov 2025) EndedAt: 2025-11-21 00:09:00 -0500 (Fri, 21 Nov 2025) EllapsedTime: 482.8 seconds RetCode: 0 Status: OK CheckDir: getDEE2.Rcheck Warnings: 0