Package: getDEE2 Version: 1.21.0 Command: /home/biocbuild/bbs-3.23-bioc/R/bin/R CMD build --keep-empty-dirs --no-resave-data getDEE2 StartedAt: 2025-11-20 17:49:07 -0500 (Thu, 20 Nov 2025) EndedAt: 2025-11-20 17:50:57 -0500 (Thu, 20 Nov 2025) EllapsedTime: 110.1 seconds RetCode: 0 Status: OK PackageFile: getDEE2_1.21.0.tar.gz PackageFileSize: 23.57 KiB