Package: gep2pep Version: 1.29.0 Command: /Library/Frameworks/R.framework/Resources/bin/R CMD INSTALL gep2pep StartedAt: 2025-10-08 15:44:36 -0400 (Wed, 08 Oct 2025) EndedAt: 2025-10-08 15:44:58 -0400 (Wed, 08 Oct 2025) EllapsedTime: 22.6 seconds RetCode: 0 Status: OK