Package: gep2pep Version: 1.29.0 Command: rm -rf gep2pep.buildbin-libdir && mkdir gep2pep.buildbin-libdir && /Users/biocbuild/BBS/utils/build-universal.sh gep2pep_1.29.0.tar.gz /Library/Frameworks/R.framework/Resources/bin/R gep2pep.buildbin-libdir StartedAt: 2025-10-09 02:33:57 -0400 (Thu, 09 Oct 2025) EndedAt: 2025-10-09 02:34:24 -0400 (Thu, 09 Oct 2025) EllapsedTime: 27.1 seconds RetCode: 0 Status: OK PackageFile: gep2pep_1.29.0.tgz PackageFileSize: 469.2 KiB