Package: geomeTriD Version: 1.5.0 Command: /home/biocbuild/bbs-3.23-bioc/R/bin/R CMD INSTALL geomeTriD StartedAt: 2025-11-04 15:46:06 -0500 (Tue, 04 Nov 2025) EndedAt: 2025-11-04 15:47:05 -0500 (Tue, 04 Nov 2025) EllapsedTime: 59.2 seconds RetCode: 0 Status: OK