Package: geomeTriD Version: 1.5.0 Command: /home/biocbuild/bbs-3.23-bioc/R/bin/R CMD build --keep-empty-dirs --no-resave-data geomeTriD StartedAt: 2025-11-04 17:44:01 -0500 (Tue, 04 Nov 2025) EndedAt: 2025-11-04 17:45:37 -0500 (Tue, 04 Nov 2025) EllapsedTime: 96.1 seconds RetCode: 0 Status: OK PackageFile: geomeTriD_1.5.0.tar.gz PackageFileSize: 1.104 MiB