Package: geomeTriD Version: 1.3.18 Command: /Library/Frameworks/R.framework/Resources/bin/R CMD INSTALL geomeTriD StartedAt: 2025-10-12 15:44:34 -0400 (Sun, 12 Oct 2025) EndedAt: 2025-10-12 15:45:52 -0400 (Sun, 12 Oct 2025) EllapsedTime: 78.1 seconds RetCode: 0 Status: OK