Package: geomeTriD Version: 1.3.18 Command: /Library/Frameworks/R.framework/Resources/bin/R CMD build --keep-empty-dirs --no-resave-data geomeTriD StartedAt: 2025-10-12 17:16:32 -0400 (Sun, 12 Oct 2025) EndedAt: 2025-10-12 17:18:27 -0400 (Sun, 12 Oct 2025) EllapsedTime: 114.9 seconds RetCode: 0 Status: OK PackageFile: geomeTriD_1.3.18.tar.gz PackageFileSize: 1.124 MiB