Package: geomeTriD Version: 1.3.18 Command: rm -rf geomeTriD.buildbin-libdir && mkdir geomeTriD.buildbin-libdir && /Users/biocbuild/BBS/utils/build-universal.sh geomeTriD_1.3.18.tar.gz /Library/Frameworks/R.framework/Resources/bin/R geomeTriD.buildbin-libdir StartedAt: 2025-10-13 02:34:57 -0400 (Mon, 13 Oct 2025) EndedAt: 2025-10-13 02:36:19 -0400 (Mon, 13 Oct 2025) EllapsedTime: 82.1 seconds RetCode: 0 Status: OK PackageFile: geomeTriD_1.3.18.tgz PackageFileSize: 1.659 MiB