Package: genomicInstability Version: 1.17.0 Command: /home/biocbuild/bbs-3.23-bioc/R/bin/R CMD INSTALL genomicInstability StartedAt: 2025-10-31 15:40:45 -0400 (Fri, 31 Oct 2025) EndedAt: 2025-10-31 15:41:12 -0400 (Fri, 31 Oct 2025) EllapsedTime: 26.6 seconds RetCode: 0 Status: OK